BEGIN:VCALENDAR
VERSION:2.0
PRODID:-//Department Of Education//4c2d6c88-f303-47dc-adfa-d7ae0ec822e8
BEGIN:VTIMEZONE
TZID:Australia/Sydney
TZURL:http://tzurl.org/zoneinfo-outlook/Australia/Sydney
X-LIC-LOCATION:Australia/Sydney
BEGIN:STANDARD
TZOFFSETFROM:+1100
TZOFFSETTO:+1000
TZNAME:AEST
DTSTART:19700405T030000
RRULE:FREQ=YEARLY;BYMONTH=4;BYDAY=1SU
END:STANDARD
BEGIN:DAYLIGHT
TZOFFSETFROM:+1000
TZOFFSETTO:+1100
TZNAME:AEDT
DTSTART:19701004T020000
RRULE:FREQ=YEARLY;BYMONTH=10;BYDAY=1SU
END:DAYLIGHT
END:VTIMEZONE
CALSCALE:GREGORIAN
X-WR-TIMEZONE:Australia/Sydney
BEGIN:VEVENT
DTSTART;VALUE=DATE:20200309
DTEND;VALUE=DATE:20200310
DTSTAMP:20200309T000000Z
UID:0f05c307-e2d7-47ce-986b-c2ef100f8f39
LOCATION:Thalgarrah Environmental Education Centre
SUMMARY;LANGUAGE=en-us:Thalgarrah Environmental Education Centre Excursion
SEQUENCE:0
DESCRIPTION:Thalgarrah Environmental Education Centre Excursion
END:VEVENT
TRANSP:TRANSPARENT
END:VCALENDAR
